BEGIN:VCALENDAR
VERSION:2.0
PRODID:-//Apollon Theater - ECPv6.11.2.1//NONSGML v1.0//EN
CALSCALE:GREGORIAN
METHOD:PUBLISH
X-WR-CALNAME:Apollon Theater
X-ORIGINAL-URL:https://apollontheater.gr/en/
X-WR-CALDESC:Events for Apollon Theater
REFRESH-INTERVAL;VALUE=DURATION:PT1H
X-Robots-Tag:noindex
X-PUBLISHED-TTL:PT1H
BEGIN:VTIMEZONE
TZID:Europe/Athens
BEGIN:DAYLIGHT
TZOFFSETFROM:+0200
TZOFFSETTO:+0300
TZNAME:EEST
DTSTART:20260329T010000
END:DAYLIGHT
BEGIN:STANDARD
TZOFFSETFROM:+0300
TZOFFSETTO:+0200
TZNAME:EET
DTSTART:20261025T010000
END:STANDARD
END:VTIMEZONE
BEGIN:VEVENT
DTSTART;VALUE=DATE:20260418
DTEND;VALUE=DATE:20260421
DTSTAMP:20260420T125907
CREATED:20260328T171332Z
LAST-MODIFIED:20260328T171722Z
UID:2390-1776470400-1776729599@apollontheater.gr
SUMMARY:Sy- Ro-Sou-Ba : ROIDIS – SOURIS – BASTIAS RETURN TO ERMOUPOLIS! By Andreas Tzinis
DESCRIPTION:A Contemporary Drama / Comedy about the History of Syros by the Bastias  TheatreSociety of Syros directed by Andreas Tzinis. \nPlot: Year 2026\, tonight – now. Ermoupolis\, inside the ‘’ Apollon ’’ theatre. Enter Alezia\, an AI scientist\, and Beatrice\, a historian specialising in Syros\, for a secret meeting with Messias\,the Mayor of Syros-Ermoupolis. They must help him prevent a plan by President Pamp of the I.P.A. to transform the island into a desert snailfield\, and restore Syros to its 19th century glory\,while playing a “double game” as Pamp’s agents. Whether Messias chooses desolation or restoration\, he is obliged to educate himself in local history. Syros’ 3 most prominent intellectuals – Emmanuel Roídis\, Georgios Souris\, Kostis Bastias – undertake this. Are they spirits\, robots\, people? \nWith absolute historical accuracy\, original teaching methods\, invisible creatures\, “theatrewithintheatre”\, but also endless comic explosions of laughter and satire\, they advance the continuously twisting plot towardsa finale that turns everything upside down! A performance of multifaceted characters\, highlighting magic\, mystery\, emotions\, socio-political reality; the future in relief! Attention: The audience will also be invited to vote! \nTicket prices -general admission: 12 euros\, concession: 10 euros (disabled\, unemployed\, teachers\, pupils/students\, retirees). \nTickets available from the Apollon Theatre of Ermoupolis\, and online via ticketservices.gr (phone: 2107234567).
URL:https://apollontheater.gr/en/event/sy-ro-sou-ba-roidis-souris-bastias-return-to-ermoupolis-by-andreas-tzinis/
CATEGORIES:Children's performances,Theatrical performances
ATTACH;FMTTYPE=image/jpeg:https://apollontheater.gr/wp-content/uploads/2026/03/αφίσα-α3-rgb-1.jpg
END:VEVENT
END:VCALENDAR