BEGIN:VCALENDAR
VERSION:2.0
PRODID:-//Apollon Theater - ECPv6.11.2.1//NONSGML v1.0//EN
CALSCALE:GREGORIAN
METHOD:PUBLISH
X-WR-CALNAME:Apollon Theater
X-ORIGINAL-URL:https://apollontheater.gr/en/
X-WR-CALDESC:Events for Apollon Theater
REFRESH-INTERVAL;VALUE=DURATION:PT1H
X-Robots-Tag:noindex
X-PUBLISHED-TTL:PT1H
BEGIN:VTIMEZONE
TZID:Europe/Athens
BEGIN:DAYLIGHT
TZOFFSETFROM:+0200
TZOFFSETTO:+0300
TZNAME:EEST
DTSTART:20260329T010000
END:DAYLIGHT
BEGIN:STANDARD
TZOFFSETFROM:+0300
TZOFFSETTO:+0200
TZNAME:EET
DTSTART:20261025T010000
END:STANDARD
END:VTIMEZONE
BEGIN:VEVENT
DTSTART;VALUE=DATE:20260418
DTEND;VALUE=DATE:20260421
DTSTAMP:20260420T154258
CREATED:20260328T171332Z
LAST-MODIFIED:20260328T171722Z
UID:2390-1776470400-1776729599@apollontheater.gr
SUMMARY:Sy- Ro-Sou-Ba : ROIDIS – SOURIS – BASTIAS RETURN TO ERMOUPOLIS! By Andreas Tzinis
DESCRIPTION:A Contemporary Drama / Comedy about the History of Syros by the Bastias  TheatreSociety of Syros directed by Andreas Tzinis. \nPlot: Year 2026\, tonight – now. Ermoupolis\, inside the ‘’ Apollon ’’ theatre. Enter Alezia\, an AI scientist\, and Beatrice\, a historian specialising in Syros\, for a secret meeting with Messias\,the Mayor of Syros-Ermoupolis. They must help him prevent a plan by President Pamp of the I.P.A. to transform the island into a desert snailfield\, and restore Syros to its 19th century glory\,while playing a “double game” as Pamp’s agents. Whether Messias chooses desolation or restoration\, he is obliged to educate himself in local history. Syros’ 3 most prominent intellectuals – Emmanuel Roídis\, Georgios Souris\, Kostis Bastias – undertake this. Are they spirits\, robots\, people? \nWith absolute historical accuracy\, original teaching methods\, invisible creatures\, “theatrewithintheatre”\, but also endless comic explosions of laughter and satire\, they advance the continuously twisting plot towardsa finale that turns everything upside down! A performance of multifaceted characters\, highlighting magic\, mystery\, emotions\, socio-political reality; the future in relief! Attention: The audience will also be invited to vote! \nTicket prices -general admission: 12 euros\, concession: 10 euros (disabled\, unemployed\, teachers\, pupils/students\, retirees). \nTickets available from the Apollon Theatre of Ermoupolis\, and online via ticketservices.gr (phone: 2107234567).
URL:https://apollontheater.gr/en/event/sy-ro-sou-ba-roidis-souris-bastias-return-to-ermoupolis-by-andreas-tzinis/
CATEGORIES:Children's performances,Theatrical performances
ATTACH;FMTTYPE=image/jpeg:https://apollontheater.gr/wp-content/uploads/2026/03/αφίσα-α3-rgb-1.jpg
END:VEVENT
BEGIN:VEVENT
DTSTART;TZID=Europe/Athens:20260425T190000
DTEND;TZID=Europe/Athens:20260425T203000
DTSTAMP:20260420T154258
CREATED:20260202T085059Z
LAST-MODIFIED:20260202T085311Z
UID:2146-1777143600-1777149000@apollontheater.gr
SUMMARY:The Birth
DESCRIPTION:Music Schools Celebrate the Birth of Ermoupolis \nThe DELASAL Network of Greece presents a musical tribute to the birth of Ermoupolis. Students and teachers from six network schools\, through their choirs and conservatories\, will take the audience on a journey through the city\, offering a unique musical experience. Their melodies and voices touch the soul\, narrating the history and emotions of the city’s 200-year story. \nA magical musical journey\, where every note becomes a bridge of memory and every voice a hymn to the life\, heritage\, and spirit of Ermoupolis.
URL:https://apollontheater.gr/en/event/the-birth/
CATEGORIES:Concerts
ATTACH;FMTTYPE=image/png:https://apollontheater.gr/wp-content/uploads/2026/01/ΜΜΕ.png
END:VEVENT
BEGIN:VEVENT
DTSTART;TZID=Europe/Athens:20260425T190000
DTEND;TZID=Europe/Athens:20260425T210000
DTSTAMP:20260420T154258
CREATED:20260407T182737Z
LAST-MODIFIED:20260409T164649Z
UID:2428-1777143600-1777150800@apollontheater.gr
SUMMARY:«The Birth» 2nd Meeting of Conservatories & Schools of the La Salle Greece Educational Organization in Hermoupolis.
DESCRIPTION:Syros is preparing to welcome a special celebration of music and collaboration. The historic Apollo Theater will host\, on April 25\, 2026\, the 2nd Meeting of Conservatories & Schools\, in an event that combines artistic creation with the educational vision of the La Salle Greece organization. \nThe concert\, entitled “The Birth”\, takes place as part of the celebrations marking 200 years since the naming of Ηermoupolis. Students\, teachers\, and musical ensembles from “De La Salle” conservatories of Thessaloniki and Alimos\, as well as from the Ursuline Schools join forces with De La Salle Syros Educational Institutions. \nThe aim is a unique musical collaboration that will highlight the city’s history and the important creators associated with it. \nFor the participants\, this meeting is much more than a simple concert. It is a experiential opportunity for coexistence and exchange. Through joint rehearsals and creative interaction\, young musicians will have the chance to collaborate with their peers\, develop communication skills\, and experience in practice the values of solidarity\, teamwork\, and respect. \nThe result will showcase both individual effort and\, above all\, the collective creation that such a musical gathering requires. \nThe 2nd Meeting of La Sallian School Conservatories aspires not simply to be an event\, but an institution of creative collaboration and inspiration. It confirms the shared educational vision of the Schools and conservatories of the La Salle Greece organization\, which consistently invest in arts education as a fundamental element for the holistic development of students. \nSyros\, with its rich cultural history and unique identity\, provides the ideal setting for this celebration. \nStarts at 19:00 \nFree Admission. A ticket pass is required from ticketservices.gr or Apollon Theater Box Office \nOrganized by: De La Salle Syros Educational Institutions and the conservatories of the La Salle Greece Educational Organization
URL:https://apollontheater.gr/en/event/the-birth-2nd-meeting-of-conservatories-schools-of-the-la-salle-greece-educational-organization-in-hermoupolis/
CATEGORIES:Concerts
ATTACH;FMTTYPE=image/jpeg:https://apollontheater.gr/wp-content/uploads/2026/04/POST_web_ODEIO_Concert2026.jpg
END:VEVENT
BEGIN:VEVENT
DTSTART;VALUE=DATE:20260429
DTEND;VALUE=DATE:20260501
DTSTAMP:20260420T154258
CREATED:20260401T091201Z
LAST-MODIFIED:20260401T091201Z
UID:2393-1777420800-1777593599@apollontheater.gr
SUMMARY:The haute  Cuisine of relationships
DESCRIPTION:A comedy by VILI SOTIROPOULOU \nA production by the Chroussa Cultural Association featuring with “ATAKA” Theater Group. \nThe theatrical play The Haute Cuisine of Relationships is a comedy characterized by a strong sense of realism\, without lacking in enchantment. The play begins as a couple enters a luxurious\, atmospheric restaurant to celebrate their twentieth wedding anniversary. The dialogue is fast-paced\, sharp\, and witty\, carrying profound meaning. With an abundant sense of humor\, the play addresses serious issues inherent in marital life. Questions regarding Marriage\, Dreams\, Interests\, Psychoanalysis\, Sins\, and Chance Encounters preoccupy Kiki and Michalis—an ordinary couple who constantly mirror one another. In their lives\, love alternates with anger as they experience a deeply realistic relationship. From the outset\, the stage is shared by the performers Jean-Louis Compère and Attraction Marion\, who provide a touch of magic\, surrealism\, and biting underlying commentary\, as well as Vlachos Lampis—impetuous\, clumsy\, and… a catalyst. \nBON APPÉTIT… \nStart Time: 21:00\nApollo Theater\, Hermoupolis \nTicket Prices: €12 and €10 (Unemployed / Students / Pupils)\n(Part of the proceeds will be donated to charitable causes) \nPresale: Available via www.ticketservices.gr and the Apollo Theater Box Office. \nCAST\nKIKI: Lamprini Sapati\nMICHALIS: Giannis Xagoraris\nLAMPIS: Dimitris Andreadakis\nMAÎTRE D’: Leonidas Patrikakos\nATTRACTION: Maria Dimoglou\nCOMPÈRE: Nikos Monogyios\nPRODUCTION TEAM\nDirection: Michalis Zouloufos\nSet & Costume Design: Bessy Apostolidou\nTechnical Support: Nikos & Magda Kontiza\nSound Operator: Antonis Zouloufos\nPoster Design: Bessy Apostolidou\nProgram & Music Selection: Giannis Xagoraris\nPrompter – Props: Matina Psalti
URL:https://apollontheater.gr/en/event/the-haute-cuisine-of-relationships-2/
CATEGORIES:Theatrical performances
ATTACH;FMTTYPE=image/jpeg:https://apollontheater.gr/wp-content/uploads/2026/03/υψηλη-ροζ-μαγειρικη-1.jpg
END:VEVENT
END:VCALENDAR