BEGIN:VCALENDAR
VERSION:2.0
PRODID:-//Θέατρο Απόλλων - ECPv6.11.2.1//NONSGML v1.0//EN
CALSCALE:GREGORIAN
METHOD:PUBLISH
X-WR-CALNAME:Θέατρο Απόλλων
X-ORIGINAL-URL:https://apollontheater.gr
X-WR-CALDESC:Θέατρο Απόλλων - Εκδηλώσεις
REFRESH-INTERVAL;VALUE=DURATION:PT1H
X-Robots-Tag:noindex
X-PUBLISHED-TTL:PT1H
BEGIN:VTIMEZONE
TZID:Europe/Athens
BEGIN:DAYLIGHT
TZOFFSETFROM:+0200
TZOFFSETTO:+0300
TZNAME:EEST
DTSTART:20260329T010000
END:DAYLIGHT
BEGIN:STANDARD
TZOFFSETFROM:+0300
TZOFFSETTO:+0200
TZNAME:EET
DTSTART:20261025T010000
END:STANDARD
END:VTIMEZONE
BEGIN:VEVENT
DTSTART;VALUE=DATE:20260418
DTEND;VALUE=DATE:20260421
DTSTAMP:20260420T123407
CREATED:20260328T171332Z
LAST-MODIFIED:20260328T174920Z
UID:2385-1776470400-1776729599@apollontheater.gr
SUMMARY:Συ- Ρο-Σού-Μπα: ΡΟIΔΗΣ – ΣΟΥΡΗΣ – ΜΠΑΣΤΙΑΣ ΕΠΙΣΤΡΕΦΟΥΝ ΣΤΗΝ ΕΡΜΟΥΠΟΛΗ!
DESCRIPTION:Του Ανδρέα Τζίνη\nΈνα Σύγχρονο Δράμα / Κωμωδία για την Ιστορία τής Σύρου \nΑπό τη Θεατρική Ομάδα ‘’ Μπαστιάς ‘’ Σύρου\nΣκηνοθεσία : Ανδρέας Τζίνης \nΈτος 2026\, απόψε. Ερμούπολη\, εσωτερικό κλειστού θεάτρου ‘’Απόλλων’’. Μπαίνουν η Αλέζια\, επιστήμων τεχνητής νοημοσύνης\, η Μπεατρίτσε\, ιστορικός ειδίκευσης Σύρου\, για μυστική συνάντηση εδώ με το Δήμαρχο Σύρου-Ερμούπολης Μεσσία\, για να τον βοηθήσουν και να αποτρέψει σχέδιο του Προέδρου Παμπ τών Ι.Π.Α. μετατροπής Σύρου σε έρημο σαλιγκαρότοπο\, και να την επαναφέρει στην αίγλη 19 ου αιώνα\, με ‘’ διπλό παιχνίδι ‘’ οι ίδιες προς Παμπ\, καθότι πράκτορές του. Είτε ερήμωση\, είτε ανόρθωση επιλέξει ο Μεσσίας\, υποχρεούται να επιμορφωθεί στην τοπική Ιστορία. Το αναλαμβάνουν οι 3 διαπρεπέστεροι Συριανοί διανοούμενοι Εμμανουήλ Ροϊδης\, Γεώργιος Σουρής\, Κωστής Μπαστιάς. Είναι πνεύματα\, ρομπότ\, άνθρωποι; Με απόλυτη ιστορική ακρίβεια\, πρωτότυπες διδακτικές μεθόδους\, αόρατα πλάσματα\, ‘’ θέατρο μες στο θέατρο ‘’\, αλλά και άπειρες κωμικές εκρήξεις γέλιου- σάτιρας προωθούν την πλοκή συνεχών ανατροπών στο ανατρέπον τα πάντα φινάλε! Μια παράσταση πολύπλευρων χαρακτήρων\, αναδεικνυόντων μαγεία\, μυστήριο\, συναισθήματα\, κοινωνικο-πολιτική πραγματικότητα\, ανάγλυφο το μέλλον! \nΠροσοχή : Oι θεατές παράστασης καλούνται και να ψηφίσουν !!.. \nΏρα Έναρξης: 21:00 \nΤιμές εισιτηρίου . Γενική είσοδος : 12 ευρώ. Εκπτωτικό : 10 ευρώ ( ΑΜΕΑ-άνεργοι-εκπαιδευτικοί-μαθητές-φοιτητές-συνταξιούχοι ). \nΔιάθεση εισιτηρίων \nΑπό το θέατρο Απόλλων και διαδικτυακά από ticketservices.gr (τηλέφωνο 2107234567 )
URL:https://apollontheater.gr/event/syrospumpa/
CATEGORIES:Θεατρικές παραστάσεις
ATTACH;FMTTYPE=image/jpeg:https://apollontheater.gr/wp-content/uploads/2026/03/αφίσα-α3-rgb-1.jpg
END:VEVENT
END:VCALENDAR