BEGIN:VCALENDAR
VERSION:2.0
PRODID:-//Θέατρο Απόλλων - ECPv6.11.2.1//NONSGML v1.0//EN
CALSCALE:GREGORIAN
METHOD:PUBLISH
X-WR-CALNAME:Θέατρο Απόλλων
X-ORIGINAL-URL:https://apollontheater.gr
X-WR-CALDESC:Θέατρο Απόλλων - Εκδηλώσεις
REFRESH-INTERVAL;VALUE=DURATION:PT1H
X-Robots-Tag:noindex
X-PUBLISHED-TTL:PT1H
BEGIN:VTIMEZONE
TZID:Europe/Athens
BEGIN:DAYLIGHT
TZOFFSETFROM:+0200
TZOFFSETTO:+0300
TZNAME:EEST
DTSTART:20260329T010000
END:DAYLIGHT
BEGIN:STANDARD
TZOFFSETFROM:+0300
TZOFFSETTO:+0200
TZNAME:EET
DTSTART:20261025T010000
END:STANDARD
END:VTIMEZONE
BEGIN:VEVENT
DTSTART;VALUE=DATE:20260418
DTEND;VALUE=DATE:20260421
DTSTAMP:20260420T113009
CREATED:20260328T171332Z
LAST-MODIFIED:20260328T174920Z
UID:2385-1776470400-1776729599@apollontheater.gr
SUMMARY:Συ- Ρο-Σού-Μπα: ΡΟIΔΗΣ – ΣΟΥΡΗΣ – ΜΠΑΣΤΙΑΣ ΕΠΙΣΤΡΕΦΟΥΝ ΣΤΗΝ ΕΡΜΟΥΠΟΛΗ!
DESCRIPTION:Του Ανδρέα Τζίνη\nΈνα Σύγχρονο Δράμα / Κωμωδία για την Ιστορία τής Σύρου \nΑπό τη Θεατρική Ομάδα ‘’ Μπαστιάς ‘’ Σύρου\nΣκηνοθεσία : Ανδρέας Τζίνης \nΈτος 2026\, απόψε. Ερμούπολη\, εσωτερικό κλειστού θεάτρου ‘’Απόλλων’’. Μπαίνουν η Αλέζια\, επιστήμων τεχνητής νοημοσύνης\, η Μπεατρίτσε\, ιστορικός ειδίκευσης Σύρου\, για μυστική συνάντηση εδώ με το Δήμαρχο Σύρου-Ερμούπολης Μεσσία\, για να τον βοηθήσουν και να αποτρέψει σχέδιο του Προέδρου Παμπ τών Ι.Π.Α. μετατροπής Σύρου σε έρημο σαλιγκαρότοπο\, και να την επαναφέρει στην αίγλη 19 ου αιώνα\, με ‘’ διπλό παιχνίδι ‘’ οι ίδιες προς Παμπ\, καθότι πράκτορές του. Είτε ερήμωση\, είτε ανόρθωση επιλέξει ο Μεσσίας\, υποχρεούται να επιμορφωθεί στην τοπική Ιστορία. Το αναλαμβάνουν οι 3 διαπρεπέστεροι Συριανοί διανοούμενοι Εμμανουήλ Ροϊδης\, Γεώργιος Σουρής\, Κωστής Μπαστιάς. Είναι πνεύματα\, ρομπότ\, άνθρωποι; Με απόλυτη ιστορική ακρίβεια\, πρωτότυπες διδακτικές μεθόδους\, αόρατα πλάσματα\, ‘’ θέατρο μες στο θέατρο ‘’\, αλλά και άπειρες κωμικές εκρήξεις γέλιου- σάτιρας προωθούν την πλοκή συνεχών ανατροπών στο ανατρέπον τα πάντα φινάλε! Μια παράσταση πολύπλευρων χαρακτήρων\, αναδεικνυόντων μαγεία\, μυστήριο\, συναισθήματα\, κοινωνικο-πολιτική πραγματικότητα\, ανάγλυφο το μέλλον! \nΠροσοχή : Oι θεατές παράστασης καλούνται και να ψηφίσουν !!.. \nΏρα Έναρξης: 21:00 \nΤιμές εισιτηρίου . Γενική είσοδος : 12 ευρώ. Εκπτωτικό : 10 ευρώ ( ΑΜΕΑ-άνεργοι-εκπαιδευτικοί-μαθητές-φοιτητές-συνταξιούχοι ). \nΔιάθεση εισιτηρίων \nΑπό το θέατρο Απόλλων και διαδικτυακά από ticketservices.gr (τηλέφωνο 2107234567 )
URL:https://apollontheater.gr/event/syrospumpa/
CATEGORIES:Θεατρικές παραστάσεις
ATTACH;FMTTYPE=image/jpeg:https://apollontheater.gr/wp-content/uploads/2026/03/αφίσα-α3-rgb-1.jpg
END:VEVENT
BEGIN:VEVENT
DTSTART;TZID=Europe/Athens:20260425T190000
DTEND;TZID=Europe/Athens:20260425T210000
DTSTAMP:20260420T113009
CREATED:20260407T182737Z
LAST-MODIFIED:20260409T164153Z
UID:2421-1777143600-1777150800@apollontheater.gr
SUMMARY:Η Γέννηση- 2η Συνάντηση Ωδείων & Σχολείων του εκπαιδευτικού οργανισμού  La Salle Ελλάδας στην Ερμούπολη
DESCRIPTION:2η Συνάντηση Ωδείων & Σχολείων του εκπαιδευτικού οργανισμού  La Salle Ελλάδας στην Ερμούπολη   \nΗ Σύρος ετοιμάζεται να υποδεχθεί μια ξεχωριστή γιορτή μουσικής και συνεργασίας.\nΤο ιστορικό Θέατρο Απόλλων φιλοξενεί\, στις 25 Απριλίου 2026\, τη 2η Συνάντηση Λασαλιανών Ωδείων & Σχολείων\, σε μια εκδήλωση που συνδυάζει την καλλιτεχνική δημιουργία με το παιδαγωγικό όραμα του εκπαιδευτικού οργανισμού La Salle Ελλάδας. Η συναυλία\, με τον συμβολικό τίτλο «Η Γέννηση»\, πραγματοποιείται στο πλαίσιο του εορτασμού για τα 200 χρόνια από την ονοματοδοσία της Ερμούπολης. Σπουδαστές\, καθηγητές και μουσικά σύνολα από τα Ωδεία των σχολείων «ΔΕΛΑΣΑΛ» Θεσσαλονίκης\, Δελασάλ Αλίμου και  Ουρσουλινών\, ενώνουν τις δυνάμεις τους με τα Εκπαιδευτήρια Δελασάλ Σύρου.  Στόχος είναι μια μοναδική μουσική σύμπραξη που θα αναδείξει την ιστορία της πόλης και τους σημαντικούς δημιουργούς που συνδέθηκαν μαζί της. Για τους συμμετέχοντες\, η συνάντηση αυτή είναι κάτι πολύ περισσότερο από μια απλή συναυλία. Είναι μια βιωματική εμπειρία συνύπαρξης και ανταλλαγής. Μέσα από κοινές πρόβες και δημιουργική αλληλεπίδραση\, οι νεαροί μουσικοί θα έχουν την ευκαιρία να συμπράξουν με συνομηλίκους τους\, να καλλιεργήσουν δεξιότητες επικοινωνίας και να βιώσουν στην πράξη τις αξίες της αλληλεγγύης\, της ομαδικότητας και του σεβασμού.  Το αποτέλεσμα θα αναδείξει τόσο την ατομική προσπάθεια όσο και\, κυρίως\, τη συλλογική δημιουργία που απαιτεί μια τέτοια μουσική συνάντηση. Η 2η Συνάντηση Ωδείων των λασαλιανών σχολείων  δεν φιλοδοξεί να είναι απλώς ένα γεγονός\, αλλά ένας θεσμός δημιουργικής σύμπραξης και έμπνευσης.  Επιβεβαιώνει το κοινό παιδαγωγικό όραμα των σχολείων και ωδείων του εκπαιδευτικού οργανισμού La Salle Ελλάδας\, τα οποία επενδύουν συστηματικά στην καλλιτεχνική παιδεία ως θεμελιώδες στοιχείο για την ολόπλευρη ανάπτυξη των μαθητών και μαθητριών.  Η Σύρος\, με την πλούσια πολιτιστική ιστορία της και την ιδιαίτερη ταυτότητά της\, αποτελεί το ιδανικό σκηνικό για αυτή τη γιορτή.  \nΏρα Έναρξης 19.00\nΕίσοδος Ελεύθερη με Δελτίο Εισόδου μέσω ticketservices.gr \nΔιοργάνωση: Εκπαιδευτήρια Δελασάλ Σύρου και ωδεία του εκπαιδευτικού οργανισμού La Salle Ελλάδας
URL:https://apollontheater.gr/event/i-gennisi/
CATEGORIES:Συναυλίες
ATTACH;FMTTYPE=image/jpeg:https://apollontheater.gr/wp-content/uploads/2026/04/POST_web_ODEIO_Concert2026.jpg
END:VEVENT
BEGIN:VEVENT
DTSTART;VALUE=DATE:20260429
DTEND;VALUE=DATE:20260501
DTSTAMP:20260420T113009
CREATED:20260401T091201Z
LAST-MODIFIED:20260401T091201Z
UID:2395-1777420800-1777593599@apollontheater.gr
SUMMARY:Υψηλή μαγειρική των σχέσεων
DESCRIPTION:Η Κωμωδία της ΒΙΛΗΣ ΣΩΤΗΡΟΠΟΥΛΟΥ \nΜια παραγωγή του Πολιτιστικού Συλλόγου Χρούσσων με την Θεατρική Ομάδα «ΑΤΑΚΑ» \nΤο θεατρικό έργο Υψηλή Μαγειρική των Σχέσεων είναι μία κωμωδία με μεγάλη δόση ρεαλισμού\, χωρίς όμως να υπολείπεται σε μαγεία. Το έργο ξεκινάει με την είσοδο ενός ζευγαριού σε ένα πολυτελές\, ατμοσφαιρικό εστιατόριο\, όπου έχει έρθει για να γιορτάσει την επέτειο των είκοσι χρόνων γάμου. Οι διάλογοι μεταξύ του ζευγαριού είναι γρήγοροι\, ατακαριστοί\, πνευματώδεις\, με συμπυκνωμένα νοήματα. Με περισσή αίσθηση χιούμορ\nθίγονται σοβαρά ζητήματα που απασχολούν τις έγγαμες σχέσεις. Ερωτήματα όπως : Τι είναι Γάμος\, Όνειρα\, Συμφέροντα\, Ψυχανάλυση\, Αμαρτίες\, \nΤυχαίες συναντήσεις\, απασχολούν μια Κική και έναν Μιχάλη\, ένα συνηθισμένο ζευγάρι\, που καθρεπτίζεται διαρκώς ο ένας στον άλλο\, που στη ζωή τους εναλλάσσεται ο έρωτας με τον θυμό και βιώνουν μια άκρως ρεαλιστική σχέση. Στην παρέα μπήκαν από την αρχή οι καλλιτέχνες Ζαν Λουί Κομπέρ και Ατραξιόν Μαριόν\, που είναι η μαγική νότα\, ο σουρεαλισμός και το καυστικό υποδόριο σχόλιο\, όπως και ο Βλάχος Λάμπης\, ορμητικός\, άγαρμπος και…..καταλύτης… \nΚΑΛΗ ΣΑΣ….. ΟΡΕΞΗ….. \nΏρα έναρξης 21:00 \nΤιμή εισιτηρίου: 12 και 10€ (Άνεργοι- Φοιτητές- Μαθητές) \n(Μέρος των εσόδων θα διατεθεί για φιλανθρωπικούς σκοπούς) \nΠροπώληση εισιτηρίων μέσω της www.ticketservices.gr και το Ταμείο του Θεάτρου Απόλλων \nΤΑ ΠΡΟΣΩΠΑ\nΚΙΚΗ | Λαμπρινή Σαπάτη\nΜΙΧΑΛΗΣ | Γιάννης Ξαγοράρης\nΛΑΜΠΗΣ | Δημήτρης Ανδρεαδάκης\nΜΕΤΡ | Λεωνίδας Πατρικάκος\nΑΤΡΑΞΙΟΝ| Μαρία Δημόγλου\nΚΟΜΠΕΡ | Νίκος Μονογυιός \nΟΙ ΣΥΝΤΕΛΕΣΤΕΣ\nΣκηνοθεσία | Μιχάλης Ζουλουφός \nΣκηνικά – Ενδυματολογική Επιμέλεια |Μπέσσυ Αποστολίδου\nΤεχνική Υποστήριξη| Νίκος & Μάγδα Κοντιζά\nΧειριστής Ήχου | Αντώνης Ζουλουφός\nΣχεδιασμός Αφίσας | Μπέσσυ Αποστολίδου\nΠρόγραμμα – Μουσικές Επιλογές | Γιάννης Ξαγοράρης\nΥποβολείο – Φροντιστήριο | Ματίνα Ψάλτη
URL:https://apollontheater.gr/event/ipsili-mageiriki-sxeseon-3/
CATEGORIES:Θεατρικές παραστάσεις
ATTACH;FMTTYPE=image/jpeg:https://apollontheater.gr/wp-content/uploads/2026/03/υψηλη-ροζ-μαγειρικη-1.jpg
END:VEVENT
END:VCALENDAR